View In:
ArcMap
ArcGIS Explorer
ArcGIS JavaScript
Google Earth
ArcGIS.com Map
View Footprint In:
Google Earth
Service Description:
Map Name: Layers
Legend
All Layers and Tables
Layers:
Tables:
Description:
Copyright Text:
Spatial Reference: 26852
Single Fused Map Cache: true
Tile Info:
- Height: 256
- Width: 256
- DPI: 96
- Levels of Detail: (# Levels: 10)
-
Level ID: 0
[Start Tile,
End Tile]
Resolution: 166.666666666667
Scale: 192000
-
Level ID: 1
[Start Tile,
End Tile]
Resolution: 83.3333333333333
Scale: 96000
-
Level ID: 2
[Start Tile,
End Tile]
Resolution: 41.6666666666667
Scale: 48000
-
Level ID: 3
[Start Tile,
End Tile]
Resolution: 20.8333333333333
Scale: 24000
-
Level ID: 4
[Start Tile,
End Tile]
Resolution: 10.4166666666667
Scale: 12000
-
Level ID: 5
[Start Tile,
End Tile]
Resolution: 5.20833333333333
Scale: 6000
-
Level ID: 6
[Start Tile,
End Tile]
Resolution: 2.60416666666667
Scale: 3000
-
Level ID: 7
[Start Tile,
End Tile]
Resolution: 1.30208333333333
Scale: 1500
-
Level ID: 8
[Start Tile,
End Tile]
Resolution: 0.651041666666667
Scale: 750
-
Level ID: 9
[Start Tile,
End Tile]
Resolution: 0.325520833333333
Scale: 375
- Format: JPEG
- Compression Quality: 75
-
Origin:
X: -119097700
Y: 145021300
- Spatial Reference: 26852
Initial Extent:
XMin: 2649446.83528815
YMin: 509221.55231786
XMax: 2778780.16862149
YMax: 594638.218984527
Spatial Reference: 26852
Full Extent:
XMin: 2662761.52352103
YMin: 515031.71893506
XMax: 2769276.67830527
YMax: 581886.646117327
Spatial Reference: 26852
Units: esriFeet
Supported Image Format Types: PNG24,PNG,JPG,DIB,TIFF,EMF,PS,PDF,GIF,SVG,SVGZ,AI,BMP
Document Info:
- Title: Neighborhood_Associations
- Author: scacioppo
- Comments:
- Subject:
- Category:
- Keywords:
- Credits:
Supported Interfaces:
REST
SOAP
Supported Operations:
Export Map
Identify
Find