View In:
ArcMap
ArcGIS Explorer
ArcGIS JavaScript
Google Earth
ArcGIS.com Map
View Footprint In:
Google Earth
Service Description: Two-foot elevation contours derived from 2010 LiDAR (1.4m post spacing)
Map Name: Layers
Legend
All Layers and Tables
Layers:
Tables:
Description:
Copyright Text:
Spatial Reference: 26852
Single Fused Map Cache: true
Tile Info:
- Height: 256
- Width: 256
- DPI: 96
- Levels of Detail: (# Levels: 10)
-
Level ID: 0
[Start Tile,
End Tile]
Resolution: 166.666666666667
Scale: 192000
-
Level ID: 1
[Start Tile,
End Tile]
Resolution: 83.3333333333333
Scale: 96000
-
Level ID: 2
[Start Tile,
End Tile]
Resolution: 41.6666666666667
Scale: 48000
-
Level ID: 3
[Start Tile,
End Tile]
Resolution: 20.8333333333333
Scale: 24000
-
Level ID: 4
[Start Tile,
End Tile]
Resolution: 10.4166666666667
Scale: 12000
-
Level ID: 5
[Start Tile,
End Tile]
Resolution: 5.20833333333333
Scale: 6000
-
Level ID: 6
[Start Tile,
End Tile]
Resolution: 2.60416666666667
Scale: 3000
-
Level ID: 7
[Start Tile,
End Tile]
Resolution: 1.30208333333333
Scale: 1500
-
Level ID: 8
[Start Tile,
End Tile]
Resolution: 0.651041666666667
Scale: 750
-
Level ID: 9
[Start Tile,
End Tile]
Resolution: 0.325520833333333
Scale: 375
- Format: PNG8
- Compression Quality: 0
-
Origin:
X: -119097700
Y: 145021300
- Spatial Reference: 26852
Initial Extent:
XMin: 2536367.72874845
YMin: 428928.466424545
XMax: 2846142.27120279
YMax: 637505.869594065
Spatial Reference: 26852
Full Extent:
XMin: 2599111.74895076
YMin: 511018.922498725
XMax: 2782140.63515604
YMax: 599004.56201265
Spatial Reference: 26852
Units: esriFeet
Supported Image Format Types: PNG24,PNG,JPG,DIB,TIFF,EMF,PS,PDF,GIF,SVG,SVGZ,AI,BMP
Document Info:
- Title: Contours
- Author: scacioppo
- Comments:
- Subject:
- Category:
- Keywords:
- Credits:
Supported Interfaces:
REST
SOAP
Supported Operations:
Export Map
Identify
Find